BEGIN:VCALENDAR
VERSION:2.0
PRODID:spatie/icalendar-generator
NAME:Raider Choir Boosters Calendar
X-WR-CALNAME:Raider Choir Boosters Calendar
REFRESH-INTERVAL;VALUE=DURATION:PT30M
X-PUBLISHED-TTL:PT30M
BEGIN:VTIMEZONE
TZID:America/Chicago
BEGIN:STANDARD
DTSTART:20251102T010000
TZOFFSETFROM:-0500
TZOFFSETTO:-0600
END:STANDARD
BEGIN:DAYLIGHT
DTSTART:20260308T010000
TZOFFSETFROM:-0600
TZOFFSETTO:-0500
END:DAYLIGHT
BEGIN:STANDARD
DTSTART:20261101T010000
TZOFFSETFROM:-0500
TZOFFSETTO:-0600
END:STANDARD
END:VTIMEZONE
BEGIN:VTIMEZONE
TZID:UTC
BEGIN:STANDARD
DTSTART:20250723T150544
TZOFFSETFROM:+0000
TZOFFSETTO:+0000
END:STANDARD
END:VTIMEZONE
BEGIN:VEVENT
UID:event-619214@rouseraiderchoir.boosterhub.com
DTSTAMP:20260419T150544Z
SUMMARY:Choir Banquet
DESCRIPTION:<p>https://www.celebrinoeventcenter.com/gallery/</p><p>Celebrin
 o Event Center</p><p>51 County Rd. 107</p><p>Georgetown\, TX 78626</p>
LOCATION:https://maps.app.goo.gl/1YmhtvxYZxEdQxgv9
X-MICROSOFT-CDO-ALLDAYEVENT:TRUE
DTSTART;TZID=America/Chicago;VALUE=DATE:20260516
DTEND;TZID=America/Chicago;VALUE=DATE:20260517
END:VEVENT
BEGIN:VEVENT
UID:event-619215@rouseraiderchoir.boosterhub.com
DTSTAMP:20260419T150544Z
SUMMARY:Spring Choir Concert
DESCRIPTION:<p>COME JOIN US FOR CHOIR FAMILY DINNER @ TBD!</p>
LOCATION:RHS
DTSTART;TZID=America/Chicago:20260515T183000
DTEND;TZID=America/Chicago:20260515T193000
END:VEVENT
BEGIN:VEVENT
UID:event-619216@rouseraiderchoir.boosterhub.com
DTSTAMP:20260419T150544Z
SUMMARY:Choir Booster Meeting- NEW OFFICER ELECTIONS
DESCRIPTION:
LOCATION:TBD
DTSTART;TZID=America/Chicago:20260428T190000
DTEND;TZID=America/Chicago:20260428T200000
END:VEVENT
BEGIN:VEVENT
UID:event-619423@rouseraiderchoir.boosterhub.com
DTSTAMP:20260419T150544Z
SUMMARY:Spring Solo House
DESCRIPTION:
LOCATION:RHS Choir Room
DTSTART;TZID=America/Chicago:20260522T180000
DTEND;TZID=America/Chicago:20260522T200000
END:VEVENT
END:VCALENDAR